BEGIN:VCALENDAR
VERSION:2.0
PRODID:-//Official Website PDIK - S3 Ilmu Komputer Udinus - ECPv6.15.1.1//NONSGML v1.0//EN
CALSCALE:GREGORIAN
METHOD:PUBLISH
X-ORIGINAL-URL:https://pdik.dinus.ac.id
X-WR-CALDESC:Events for Official Website PDIK - S3 Ilmu Komputer Udinus
REFRESH-INTERVAL;VALUE=DURATION:PT1H
X-Robots-Tag:noindex
X-PUBLISHED-TTL:PT1H
BEGIN:VTIMEZONE
TZID:UTC
BEGIN:STANDARD
TZOFFSETFROM:+0000
TZOFFSETTO:+0000
TZNAME:UTC
DTSTART:20250101T000000
END:STANDARD
END:VTIMEZONE
BEGIN:VEVENT
DTSTART;VALUE=DATE:20250919
DTEND;VALUE=DATE:20250922
DTSTAMP:20260422T163023
CREATED:20250608T111327Z
LAST-MODIFIED:20250608T111327Z
UID:954-1758240000-1758499199@pdik.dinus.ac.id
SUMMARY:10th Conference iSemantic 2025
DESCRIPTION:iSemantic is a platform for the International Seminar on Application for Technology of Information and Communication (iSemantic) organized by Dian Nuswantoro University (Udinus) in Semarang. The theme for 2025 is “Advancing Electrical Engineering and Informatics through Quantum Computing and Intelligence Technologies.”
URL:https://pdik.dinus.ac.id/event/10th-conference-isemantic-2025/
LOCATION:Universitas Dian Nuswantoro\, Jl. Imam Bonjol No. 207\, Semarang\, Jawa Tengah\, 50131\, Indonesia
ATTACH;FMTTYPE=image/jpeg:https://pdik.dinus.ac.id/wp-content/uploads/sites/8/2025/06/isemantics-2025.jpg
END:VEVENT
END:VCALENDAR