BEGIN:VCALENDAR
VERSION:2.0
PRODID:-//Official Website PDIK - S3 Ilmu Komputer Udinus - ECPv6.15.1.1//NONSGML v1.0//EN
CALSCALE:GREGORIAN
METHOD:PUBLISH
X-ORIGINAL-URL:https://pdik.dinus.ac.id
X-WR-CALDESC:Events for Official Website PDIK - S3 Ilmu Komputer Udinus
REFRESH-INTERVAL;VALUE=DURATION:PT1H
X-Robots-Tag:noindex
X-PUBLISHED-TTL:PT1H
BEGIN:VTIMEZONE
TZID:UTC
BEGIN:STANDARD
TZOFFSETFROM:+0000
TZOFFSETTO:+0000
TZNAME:UTC
DTSTART:20250101T000000
END:STANDARD
END:VTIMEZONE
BEGIN:VEVENT
DTSTART;TZID=UTC:20250630T133000
DTEND;TZID=UTC:20250630T150000
DTSTAMP:20260420T051800
CREATED:20250608T101955Z
LAST-MODIFIED:20250608T101955Z
UID:924-1751290200-1751295600@pdik.dinus.ac.id
SUMMARY:Webinar Sosialisasi Program Pascasarjana Juni 2025
DESCRIPTION:Fakultas Ilmu Komputer Universitas Dian Nuswantoro menyelenggarakan Websinar Sosialisasi Program Pascasarjana bagi calon mahasiswa yang berminat untuk mendapatkan informasi tentang program studi S2 & S3 di Fakultas Ilmu Komputer Universitas Dian Nuswantoro\, yaitu Program Magister Teknik Informatika (PMTI) dan Program Doktor Ilmu Komputer (PDIK).
URL:https://pdik.dinus.ac.id/event/webinar-sosialisasi-program-pascasarjana-juni-2025/
LOCATION:Virtual Zoom Meeting
CATEGORIES:Webinar
ATTACH;FMTTYPE=image/png:https://pdik.dinus.ac.id/wp-content/uploads/sites/8/2025/06/sosialisasi-1.png
END:VEVENT
END:VCALENDAR