BEGIN:VCALENDAR
VERSION:2.0
PRODID:-//Official Website PDIK - S3 Ilmu Komputer Udinus - ECPv6.15.1.1//NONSGML v1.0//EN
CALSCALE:GREGORIAN
METHOD:PUBLISH
X-ORIGINAL-URL:https://pdik.dinus.ac.id
X-WR-CALDESC:Events for Official Website PDIK - S3 Ilmu Komputer Udinus
REFRESH-INTERVAL;VALUE=DURATION:PT1H
X-Robots-Tag:noindex
X-PUBLISHED-TTL:PT1H
BEGIN:VTIMEZONE
TZID:UTC
BEGIN:STANDARD
TZOFFSETFROM:+0000
TZOFFSETTO:+0000
TZNAME:UTC
DTSTART:20250101T000000
END:STANDARD
END:VTIMEZONE
BEGIN:VEVENT
DTSTART;TZID=UTC:20250728T100000
DTEND;TZID=UTC:20250728T150000
DTSTAMP:20260422T150145
CREATED:20250723T065325Z
LAST-MODIFIED:20250723T065403Z
UID:1345-1753696800-1753714800@pdik.dinus.ac.id
SUMMARY:Sidang Terbuka Disertasi: Diah Puspitasari dan Linda Marlinda
DESCRIPTION:
URL:https://pdik.dinus.ac.id/event/sidang-terbuka-disertasi-diah-puspitasari-dan-linda-marlinda/
CATEGORIES:Sidang Terbuka
ATTACH;FMTTYPE=image/jpeg:https://pdik.dinus.ac.id/wp-content/uploads/sites/8/2025/07/SIDANG-TERBUKA-linda.jpg
END:VEVENT
END:VCALENDAR