BEGIN:VCALENDAR
VERSION:2.0
PRODID:-//Official Website PDIK - S3 Ilmu Komputer Udinus - ECPv6.15.1.1//NONSGML v1.0//EN
CALSCALE:GREGORIAN
METHOD:PUBLISH
X-ORIGINAL-URL:https://pdik.dinus.ac.id
X-WR-CALDESC:Events for Official Website PDIK - S3 Ilmu Komputer Udinus
REFRESH-INTERVAL;VALUE=DURATION:PT1H
X-Robots-Tag:noindex
X-PUBLISHED-TTL:PT1H
BEGIN:VTIMEZONE
TZID:UTC
BEGIN:STANDARD
TZOFFSETFROM:+0000
TZOFFSETTO:+0000
TZNAME:UTC
DTSTART:20250101T000000
END:STANDARD
END:VTIMEZONE
BEGIN:VEVENT
DTSTART;TZID=UTC:20250612T093000
DTEND;TZID=UTC:20250612T093000
DTSTAMP:20260424T134627
CREATED:20250608T103832Z
LAST-MODIFIED:20250608T103832Z
UID:941-1749720600-1749720600@pdik.dinus.ac.id
SUMMARY:Uji Sertifikasi NVIDIA Getting Started with Deep Learning
DESCRIPTION:Dalam rangka untuk meningkatkan kompetensi mahasiswa/lulusan\, semua mahasiswa Angkatan 2021\, 2022\, dan 2023 (yang belum lulus)\, diwajibkan untuk mengikuti Program Sertifikasi Kompetensi yang bertajuk Self-Course: Getting Started with Deep Learning yang diselenggarakan oleh NVIDIA (Gratis\, tidak dipungut biaya). Adapun tujuan dari pembelajaran mandiri ini adalah: \n\nMempelajari teknik dan alat dasar yang diperlukan untuk melatih model pembelajaran mendalam\nMendapatkan pengalaman dengan tipe data pembelajaran mendalam umum dan arsitektur model\nMeningkatkan kumpulan data melalui penambahan data untuk meningkatkan akurasi model\nMempelajari transfer antar model untuk mencapai hasil yang efisien dengan lebih sedikit data dan komputasi\nMembangun kepercayaan diri untuk mengerjakan proyek Anda sendiri dengan kerangka kerja pembelajaran mendalam modern
URL:https://pdik.dinus.ac.id/event/uji-sertifikasi-nvidia-getting-started-with-deep-learning/
LOCATION:Virtual Zoom Meeting
ATTACH;FMTTYPE=image/png:https://pdik.dinus.ac.id/wp-content/uploads/sites/8/2025/06/nvidia-1.png
END:VEVENT
END:VCALENDAR